BEGIN:VCALENDAR
PRODID:-//Calendar export
VERSION:2.0
X-WR-TIMEZONE:Etc/GMT
BEGIN:VTIMEZONE
TZID:GMT Standard Time
BEGIN:STANDARD
TZOFFSETFROM:+0000
TZOFFSETTO:+0000
END:STANDARD
END:VTIMEZONE
BEGIN:VEVENT
UID:AE35
DTSTAMP:20260420T115900Z
SUMMARY:Rocky's Ride 2026
CLASS:PUBLIC
DESCRIPTION:Join us for a day of Riding, Brotherhood and Giving Back

LOCATION:Elks
STATUS:CONFIRMED
PRIORITY:1
DTSTART:20260607T140000Z
DTEND:20260607T183000Z
TRANSP:OPAQUE
END:VEVENT
END:VCALENDAR
